BEGIN:VCALENDAR
VERSION:2.0
PRODID:-//Gymnasium Ohlstedt - ECPv6.15.20//NONSGML v1.0//EN
CALSCALE:GREGORIAN
METHOD:PUBLISH
X-WR-CALNAME:Gymnasium Ohlstedt
X-ORIGINAL-URL:https://www.gymnasium-ohlstedt.de
X-WR-CALDESC:Veranstaltungen für Gymnasium Ohlstedt
REFRESH-INTERVAL;VALUE=DURATION:PT1H
X-Robots-Tag:noindex
X-PUBLISHED-TTL:PT1H
BEGIN:VTIMEZONE
TZID:Europe/Berlin
BEGIN:DAYLIGHT
TZOFFSETFROM:+0100
TZOFFSETTO:+0200
TZNAME:CEST
DTSTART:20160327T010000
END:DAYLIGHT
BEGIN:STANDARD
TZOFFSETFROM:+0200
TZOFFSETTO:+0100
TZNAME:CET
DTSTART:20161030T010000
END:STANDARD
BEGIN:DAYLIGHT
TZOFFSETFROM:+0100
TZOFFSETTO:+0200
TZNAME:CEST
DTSTART:20170326T010000
END:DAYLIGHT
BEGIN:STANDARD
TZOFFSETFROM:+0200
TZOFFSETTO:+0100
TZNAME:CET
DTSTART:20171029T010000
END:STANDARD
BEGIN:DAYLIGHT
TZOFFSETFROM:+0100
TZOFFSETTO:+0200
TZNAME:CEST
DTSTART:20180325T010000
END:DAYLIGHT
BEGIN:STANDARD
TZOFFSETFROM:+0200
TZOFFSETTO:+0100
TZNAME:CET
DTSTART:20181028T010000
END:STANDARD
END:VTIMEZONE
BEGIN:VEVENT
DTSTART;TZID=Europe/Berlin:20170504T080000
DTEND;TZID=Europe/Berlin:20170504T133000
DTSTAMP:20260420T063247
CREATED:20170330T111605Z
LAST-MODIFIED:20170330T111605Z
UID:18828-1493884800-1493904600@www.gymnasium-ohlstedt.de
SUMMARY:Big Challange (Englischwettbewerb Klassen5-8)
DESCRIPTION:
URL:https://www.gymnasium-ohlstedt.de/veranstaltung/big-challange-englischwettbewerb-klassen5-8/
END:VEVENT
END:VCALENDAR