BEGIN:VCALENDAR
VERSION:2.0
PRODID:-//Gymnasium Ohlstedt - ECPv6.15.20//NONSGML v1.0//EN
CALSCALE:GREGORIAN
METHOD:PUBLISH
X-ORIGINAL-URL:https://www.gymnasium-ohlstedt.de
X-WR-CALDESC:Veranstaltungen für Gymnasium Ohlstedt
REFRESH-INTERVAL;VALUE=DURATION:PT1H
X-Robots-Tag:noindex
X-PUBLISHED-TTL:PT1H
BEGIN:VTIMEZONE
TZID:Europe/Berlin
BEGIN:DAYLIGHT
TZOFFSETFROM:+0100
TZOFFSETTO:+0200
TZNAME:CEST
DTSTART:20160327T010000
END:DAYLIGHT
BEGIN:STANDARD
TZOFFSETFROM:+0200
TZOFFSETTO:+0100
TZNAME:CET
DTSTART:20161030T010000
END:STANDARD
BEGIN:DAYLIGHT
TZOFFSETFROM:+0100
TZOFFSETTO:+0200
TZNAME:CEST
DTSTART:20170326T010000
END:DAYLIGHT
BEGIN:STANDARD
TZOFFSETFROM:+0200
TZOFFSETTO:+0100
TZNAME:CET
DTSTART:20171029T010000
END:STANDARD
BEGIN:DAYLIGHT
TZOFFSETFROM:+0100
TZOFFSETTO:+0200
TZNAME:CEST
DTSTART:20180325T010000
END:DAYLIGHT
BEGIN:STANDARD
TZOFFSETFROM:+0200
TZOFFSETTO:+0100
TZNAME:CET
DTSTART:20181028T010000
END:STANDARD
END:VTIMEZONE
BEGIN:VEVENT
DTSTART;VALUE=DATE:20170508
DTEND;VALUE=DATE:20170513
DTSTAMP:20260420T063705
CREATED:20160921T183027Z
LAST-MODIFIED:20160921T183027Z
UID:17783-1494201600-1494633599@www.gymnasium-ohlstedt.de
SUMMARY:Klassenreise der 5. Klassen nach Binz
DESCRIPTION:
URL:https://www.gymnasium-ohlstedt.de/veranstaltung/klassenreise-der-5-klassen-nach-binz/
END:VEVENT
BEGIN:VEVENT
DTSTART;TZID=Europe/Berlin:20170508T080000
DTEND;TZID=Europe/Berlin:20170512T170000
DTSTAMP:20260420T063705
CREATED:20170330T111723Z
LAST-MODIFIED:20170330T111723Z
UID:18830-1494230400-1494608400@www.gymnasium-ohlstedt.de
SUMMARY:Sportpraktische Abiturprüfungen S4
DESCRIPTION:
URL:https://www.gymnasium-ohlstedt.de/veranstaltung/sportpraktische-abiturpruefungen-s4/
END:VEVENT
END:VCALENDAR