BEGIN:VCALENDAR
VERSION:2.0
PRODID:-//Gymnasium Ohlstedt - ECPv6.15.20//NONSGML v1.0//EN
CALSCALE:GREGORIAN
METHOD:PUBLISH
X-WR-CALNAME:Gymnasium Ohlstedt
X-ORIGINAL-URL:https://www.gymnasium-ohlstedt.de
X-WR-CALDESC:Veranstaltungen für Gymnasium Ohlstedt
REFRESH-INTERVAL;VALUE=DURATION:PT1H
X-Robots-Tag:noindex
X-PUBLISHED-TTL:PT1H
BEGIN:VTIMEZONE
TZID:Europe/Berlin
BEGIN:DAYLIGHT
TZOFFSETFROM:+0100
TZOFFSETTO:+0200
TZNAME:CEST
DTSTART:20160327T010000
END:DAYLIGHT
BEGIN:STANDARD
TZOFFSETFROM:+0200
TZOFFSETTO:+0100
TZNAME:CET
DTSTART:20161030T010000
END:STANDARD
BEGIN:DAYLIGHT
TZOFFSETFROM:+0100
TZOFFSETTO:+0200
TZNAME:CEST
DTSTART:20170326T010000
END:DAYLIGHT
BEGIN:STANDARD
TZOFFSETFROM:+0200
TZOFFSETTO:+0100
TZNAME:CET
DTSTART:20171029T010000
END:STANDARD
BEGIN:DAYLIGHT
TZOFFSETFROM:+0100
TZOFFSETTO:+0200
TZNAME:CEST
DTSTART:20180325T010000
END:DAYLIGHT
BEGIN:STANDARD
TZOFFSETFROM:+0200
TZOFFSETTO:+0100
TZNAME:CET
DTSTART:20181028T010000
END:STANDARD
END:VTIMEZONE
BEGIN:VEVENT
DTSTART;TZID=Europe/Berlin:20170531T080000
DTEND;TZID=Europe/Berlin:20170531T140000
DTSTAMP:20260420T043313
CREATED:20170330T112011Z
LAST-MODIFIED:20170330T112011Z
UID:18836-1496217600-1496239200@www.gymnasium-ohlstedt.de
SUMMARY:Bundesjugendspiele
DESCRIPTION:
URL:https://www.gymnasium-ohlstedt.de/veranstaltung/bundesjugendspiele/
END:VEVENT
BEGIN:VEVENT
DTSTART;TZID=Europe/Berlin:20170531T153000
DTEND;TZID=Europe/Berlin:20170531T170000
DTSTAMP:20260420T043313
CREATED:20170330T112113Z
LAST-MODIFIED:20170330T112113Z
UID:18838-1496244600-1496250000@www.gymnasium-ohlstedt.de
SUMMARY:Lehrerkonferenz
DESCRIPTION:
URL:https://www.gymnasium-ohlstedt.de/veranstaltung/lehrerkonferenz-4/
END:VEVENT
BEGIN:VEVENT
DTSTART;TZID=Europe/Berlin:20170531T193000
DTEND;TZID=Europe/Berlin:20170531T220000
DTSTAMP:20260420T043313
CREATED:20160921T183328Z
LAST-MODIFIED:20160921T183328Z
UID:17787-1496259000-1496268000@www.gymnasium-ohlstedt.de
SUMMARY:Schulkonferenz
DESCRIPTION:
URL:https://www.gymnasium-ohlstedt.de/veranstaltung/schulkonferenz-6/
END:VEVENT
END:VCALENDAR