BEGIN:VCALENDAR
VERSION:2.0
PRODID:-//Gymnasium Ohlstedt - ECPv6.15.20//NONSGML v1.0//EN
CALSCALE:GREGORIAN
METHOD:PUBLISH
X-ORIGINAL-URL:https://www.gymnasium-ohlstedt.de
X-WR-CALDESC:Veranstaltungen für Gymnasium Ohlstedt
REFRESH-INTERVAL;VALUE=DURATION:PT1H
X-Robots-Tag:noindex
X-PUBLISHED-TTL:PT1H
BEGIN:VTIMEZONE
TZID:Europe/Berlin
BEGIN:DAYLIGHT
TZOFFSETFROM:+0100
TZOFFSETTO:+0200
TZNAME:CEST
DTSTART:20160327T010000
END:DAYLIGHT
BEGIN:STANDARD
TZOFFSETFROM:+0200
TZOFFSETTO:+0100
TZNAME:CET
DTSTART:20161030T010000
END:STANDARD
BEGIN:DAYLIGHT
TZOFFSETFROM:+0100
TZOFFSETTO:+0200
TZNAME:CEST
DTSTART:20170326T010000
END:DAYLIGHT
BEGIN:STANDARD
TZOFFSETFROM:+0200
TZOFFSETTO:+0100
TZNAME:CET
DTSTART:20171029T010000
END:STANDARD
BEGIN:DAYLIGHT
TZOFFSETFROM:+0100
TZOFFSETTO:+0200
TZNAME:CEST
DTSTART:20180325T010000
END:DAYLIGHT
BEGIN:STANDARD
TZOFFSETFROM:+0200
TZOFFSETTO:+0100
TZNAME:CET
DTSTART:20181028T010000
END:STANDARD
END:VTIMEZONE
BEGIN:VEVENT
DTSTART;TZID=Europe/Berlin:20170710T080000
DTEND;TZID=Europe/Berlin:20170718T170000
DTSTAMP:20260420T064542
CREATED:20160922T082207Z
LAST-MODIFIED:20160922T082207Z
UID:17808-1499673600-1500397200@www.gymnasium-ohlstedt.de
SUMMARY:Betriebspraktikum Klassen 8
DESCRIPTION:
URL:https://www.gymnasium-ohlstedt.de/veranstaltung/betriebspraktikum-klassen-8/
END:VEVENT
BEGIN:VEVENT
DTSTART;TZID=Europe/Berlin:20170711T100000
DTEND;TZID=Europe/Berlin:20170711T120000
DTSTAMP:20260420T064542
CREATED:20160922T082044Z
LAST-MODIFIED:20160922T082044Z
UID:17806-1499767200-1499774400@www.gymnasium-ohlstedt.de
SUMMARY:Fußballturnier Klassen 6
DESCRIPTION:
URL:https://www.gymnasium-ohlstedt.de/veranstaltung/fussballturnier-klassen-6/
END:VEVENT
END:VCALENDAR