BEGIN:VCALENDAR
VERSION:2.0
PRODID:-//Gymnasium Ohlstedt - ECPv6.15.20//NONSGML v1.0//EN
CALSCALE:GREGORIAN
METHOD:PUBLISH
X-WR-CALNAME:Gymnasium Ohlstedt
X-ORIGINAL-URL:https://www.gymnasium-ohlstedt.de
X-WR-CALDESC:Veranstaltungen für Gymnasium Ohlstedt
REFRESH-INTERVAL;VALUE=DURATION:PT1H
X-Robots-Tag:noindex
X-PUBLISHED-TTL:PT1H
BEGIN:VTIMEZONE
TZID:Europe/Berlin
BEGIN:DAYLIGHT
TZOFFSETFROM:+0100
TZOFFSETTO:+0200
TZNAME:CEST
DTSTART:20160327T010000
END:DAYLIGHT
BEGIN:STANDARD
TZOFFSETFROM:+0200
TZOFFSETTO:+0100
TZNAME:CET
DTSTART:20161030T010000
END:STANDARD
BEGIN:DAYLIGHT
TZOFFSETFROM:+0100
TZOFFSETTO:+0200
TZNAME:CEST
DTSTART:20170326T010000
END:DAYLIGHT
BEGIN:STANDARD
TZOFFSETFROM:+0200
TZOFFSETTO:+0100
TZNAME:CET
DTSTART:20171029T010000
END:STANDARD
BEGIN:DAYLIGHT
TZOFFSETFROM:+0100
TZOFFSETTO:+0200
TZNAME:CEST
DTSTART:20180325T010000
END:DAYLIGHT
BEGIN:STANDARD
TZOFFSETFROM:+0200
TZOFFSETTO:+0100
TZNAME:CET
DTSTART:20181028T010000
END:STANDARD
END:VTIMEZONE
BEGIN:VEVENT
DTSTART;TZID=Europe/Berlin:20170331T080000
DTEND;TZID=Europe/Berlin:20170407T170000
DTSTAMP:20260420T064507
CREATED:20160921T070116Z
LAST-MODIFIED:20160921T070116Z
UID:17756-1490947200-1491584400@www.gymnasium-ohlstedt.de
SUMMARY:Austausche: Mortefontaine\, Kopenhagen\, Barcelona\, Trento
DESCRIPTION:
URL:https://www.gymnasium-ohlstedt.de/veranstaltung/austausche-mortefontaine-kopenhagen-barcelona-trento/
END:VEVENT
BEGIN:VEVENT
DTSTART;TZID=Europe/Berlin:20170410T080000
DTEND;TZID=Europe/Berlin:20170413T170000
DTSTAMP:20260420T064507
CREATED:20160921T070251Z
LAST-MODIFIED:20160921T070251Z
UID:17758-1491811200-1492102800@www.gymnasium-ohlstedt.de
SUMMARY:Notenwoche
DESCRIPTION:
URL:https://www.gymnasium-ohlstedt.de/veranstaltung/notenwoche-2/
END:VEVENT
BEGIN:VEVENT
DTSTART;TZID=Europe/Berlin:20170410T193000
DTEND;TZID=Europe/Berlin:20170410T210000
DTSTAMP:20260420T064507
CREATED:20170407T102313Z
LAST-MODIFIED:20170407T102313Z
UID:18968-1491852600-1491858000@www.gymnasium-ohlstedt.de
SUMMARY:Schulkonferenz
DESCRIPTION:
URL:https://www.gymnasium-ohlstedt.de/veranstaltung/schulkonferenz-7/
END:VEVENT
BEGIN:VEVENT
DTSTART;TZID=Europe/Berlin:20170412T150000
DTEND;TZID=Europe/Berlin:20170412T160000
DTSTAMP:20260420T064507
CREATED:20160921T070358Z
LAST-MODIFIED:20160921T070358Z
UID:17760-1492009200-1492012800@www.gymnasium-ohlstedt.de
SUMMARY:Zeugniskonferenz S4
DESCRIPTION:
URL:https://www.gymnasium-ohlstedt.de/veranstaltung/zeugniskonferenz-s4/
END:VEVENT
BEGIN:VEVENT
DTSTART;TZID=Europe/Berlin:20170418T113000
DTEND;TZID=Europe/Berlin:20170418T120000
DTSTAMP:20260420T064507
CREATED:20170330T111250Z
LAST-MODIFIED:20170330T111250Z
UID:18824-1492515000-1492516800@www.gymnasium-ohlstedt.de
SUMMARY:Zeugnisausgabe S4
DESCRIPTION:
URL:https://www.gymnasium-ohlstedt.de/veranstaltung/zeugnisausgabe-s4/
END:VEVENT
BEGIN:VEVENT
DTSTART;TZID=Europe/Berlin:20170422T080000
DTEND;TZID=Europe/Berlin:20170422T170000
DTSTAMP:20260420T064507
CREATED:20170330T111453Z
LAST-MODIFIED:20170330T113610Z
UID:18826-1492848000-1492880400@www.gymnasium-ohlstedt.de
SUMMARY:Das Zehntel
DESCRIPTION:
URL:https://www.gymnasium-ohlstedt.de/veranstaltung/das-zehntel/
END:VEVENT
BEGIN:VEVENT
DTSTART;TZID=Europe/Berlin:20170424T193000
DTEND;TZID=Europe/Berlin:20170424T220000
DTSTAMP:20260420T064507
CREATED:20161117T210149Z
LAST-MODIFIED:20170411T211156Z
UID:18049-1493062200-1493071200@www.gymnasium-ohlstedt.de
SUMMARY:Elternratssitzung
DESCRIPTION:
URL:https://www.gymnasium-ohlstedt.de/veranstaltung/elternratssitzung-apr17/
LOCATION:Pausenhalle\, Deutschland
CATEGORIES:Elternratsitzung
ORGANIZER;CN="Elternrat":MAILTO:elternrat@gymnasium-ohlstedt.de
END:VEVENT
BEGIN:VEVENT
DTSTART;TZID=Europe/Berlin:20170427T080000
DTEND;TZID=Europe/Berlin:20170427T170000
DTSTAMP:20260420T064507
CREATED:20160921T070713Z
LAST-MODIFIED:20160921T070713Z
UID:17764-1493280000-1493312400@www.gymnasium-ohlstedt.de
SUMMARY:Girls` Day/Ganztageskonferenz
DESCRIPTION:
URL:https://www.gymnasium-ohlstedt.de/veranstaltung/girls-dayganztageskonferenz/
END:VEVENT
END:VCALENDAR