BEGIN:VCALENDAR
VERSION:2.0
PRODID:-//Gymnasium Ohlstedt - ECPv6.15.20//NONSGML v1.0//EN
CALSCALE:GREGORIAN
METHOD:PUBLISH
X-ORIGINAL-URL:https://www.gymnasium-ohlstedt.de
X-WR-CALDESC:Veranstaltungen für Gymnasium Ohlstedt
REFRESH-INTERVAL;VALUE=DURATION:PT1H
X-Robots-Tag:noindex
X-PUBLISHED-TTL:PT1H
BEGIN:VTIMEZONE
TZID:Europe/Berlin
BEGIN:DAYLIGHT
TZOFFSETFROM:+0100
TZOFFSETTO:+0200
TZNAME:CEST
DTSTART:20160327T010000
END:DAYLIGHT
BEGIN:STANDARD
TZOFFSETFROM:+0200
TZOFFSETTO:+0100
TZNAME:CET
DTSTART:20161030T010000
END:STANDARD
BEGIN:DAYLIGHT
TZOFFSETFROM:+0100
TZOFFSETTO:+0200
TZNAME:CEST
DTSTART:20170326T010000
END:DAYLIGHT
BEGIN:STANDARD
TZOFFSETFROM:+0200
TZOFFSETTO:+0100
TZNAME:CET
DTSTART:20171029T010000
END:STANDARD
BEGIN:DAYLIGHT
TZOFFSETFROM:+0100
TZOFFSETTO:+0200
TZNAME:CEST
DTSTART:20180325T010000
END:DAYLIGHT
BEGIN:STANDARD
TZOFFSETFROM:+0200
TZOFFSETTO:+0100
TZNAME:CET
DTSTART:20181028T010000
END:STANDARD
END:VTIMEZONE
BEGIN:VEVENT
DTSTART;TZID=Europe/Berlin:20170628T080000
DTEND;TZID=Europe/Berlin:20170703T170000
DTSTAMP:20260420T044546
CREATED:20160922T081701Z
LAST-MODIFIED:20160922T081701Z
UID:17802-1498636800-1499101200@www.gymnasium-ohlstedt.de
SUMMARY:Beginn mündliches Abitur
DESCRIPTION:
URL:https://www.gymnasium-ohlstedt.de/veranstaltung/beginn-muendliches-abitur/
END:VEVENT
BEGIN:VEVENT
DTSTART;TZID=Europe/Berlin:20170703T080000
DTEND;TZID=Europe/Berlin:20170707T170000
DTSTAMP:20260420T044546
CREATED:20160922T081938Z
LAST-MODIFIED:20160922T081938Z
UID:17804-1499068800-1499446800@www.gymnasium-ohlstedt.de
SUMMARY:Klassenreisen der 7. und 9. Klassen und Profilwoche der S2
DESCRIPTION:
URL:https://www.gymnasium-ohlstedt.de/veranstaltung/klassenreisen-der-7-und-9-klassen-und-profilwoche-der-s2/
END:VEVENT
BEGIN:VEVENT
DTSTART;TZID=Europe/Berlin:20170705T190000
DTEND;TZID=Europe/Berlin:20170705T213000
DTSTAMP:20260420T044546
CREATED:20161117T210443Z
LAST-MODIFIED:20170613T071316Z
UID:18051-1499281200-1499290200@www.gymnasium-ohlstedt.de
SUMMARY:Elternratssitzung
DESCRIPTION:
URL:https://www.gymnasium-ohlstedt.de/veranstaltung/elternratssitzung-jun17/
LOCATION:Geographie-Raum\, Sthamerstrasse 55\, Hamburg\, 22397\, Deutschland
CATEGORIES:Elternratsitzung
ORGANIZER;CN="Elternrat":MAILTO:elternrat@gymnasium-ohlstedt.de
END:VEVENT
BEGIN:VEVENT
DTSTART;TZID=Europe/Berlin:20170710T080000
DTEND;TZID=Europe/Berlin:20170718T170000
DTSTAMP:20260420T044546
CREATED:20160922T082207Z
LAST-MODIFIED:20160922T082207Z
UID:17808-1499673600-1500397200@www.gymnasium-ohlstedt.de
SUMMARY:Betriebspraktikum Klassen 8
DESCRIPTION:
URL:https://www.gymnasium-ohlstedt.de/veranstaltung/betriebspraktikum-klassen-8/
END:VEVENT
BEGIN:VEVENT
DTSTART;TZID=Europe/Berlin:20170711T100000
DTEND;TZID=Europe/Berlin:20170711T120000
DTSTAMP:20260420T044546
CREATED:20160922T082044Z
LAST-MODIFIED:20160922T082044Z
UID:17806-1499767200-1499774400@www.gymnasium-ohlstedt.de
SUMMARY:Fußballturnier Klassen 6
DESCRIPTION:
URL:https://www.gymnasium-ohlstedt.de/veranstaltung/fussballturnier-klassen-6/
END:VEVENT
BEGIN:VEVENT
DTSTART;TZID=Europe/Berlin:20170712T080000
DTEND;TZID=Europe/Berlin:20170712T170000
DTSTAMP:20260420T044546
CREATED:20160922T082249Z
LAST-MODIFIED:20160922T082249Z
UID:17810-1499846400-1499878800@www.gymnasium-ohlstedt.de
SUMMARY:Europatag
DESCRIPTION:
URL:https://www.gymnasium-ohlstedt.de/veranstaltung/europatag/
END:VEVENT
BEGIN:VEVENT
DTSTART;VALUE=DATE:20170714
DTEND;VALUE=DATE:20170715
DTSTAMP:20260420T044546
CREATED:20170330T112813Z
LAST-MODIFIED:20170330T112813Z
UID:18850-1499990400-1500076799@www.gymnasium-ohlstedt.de
SUMMARY:Abiturball
DESCRIPTION:
URL:https://www.gymnasium-ohlstedt.de/veranstaltung/abiturball/
END:VEVENT
BEGIN:VEVENT
DTSTART;TZID=Europe/Berlin:20170719T080000
DTEND;TZID=Europe/Berlin:20170719T113000
DTSTAMP:20260420T044546
CREATED:20170330T112919Z
LAST-MODIFIED:20170330T112919Z
UID:18852-1500451200-1500463800@www.gymnasium-ohlstedt.de
SUMMARY:Präsentation Projektwoche\, Zeugnisausgabe in der 4. Std.
DESCRIPTION:
URL:https://www.gymnasium-ohlstedt.de/veranstaltung/praesentation-projektwoche-zeugnisausgabe-in-der-4-std/
END:VEVENT
END:VCALENDAR