BEGIN:VCALENDAR
VERSION:2.0
PRODID:-//Gymnasium Ohlstedt - ECPv6.15.20//NONSGML v1.0//EN
CALSCALE:GREGORIAN
METHOD:PUBLISH
X-WR-CALNAME:Gymnasium Ohlstedt
X-ORIGINAL-URL:https://www.gymnasium-ohlstedt.de
X-WR-CALDESC:Veranstaltungen für Gymnasium Ohlstedt
REFRESH-INTERVAL;VALUE=DURATION:PT1H
X-Robots-Tag:noindex
X-PUBLISHED-TTL:PT1H
BEGIN:VTIMEZONE
TZID:Europe/Berlin
BEGIN:DAYLIGHT
TZOFFSETFROM:+0100
TZOFFSETTO:+0200
TZNAME:CEST
DTSTART:20160327T010000
END:DAYLIGHT
BEGIN:STANDARD
TZOFFSETFROM:+0200
TZOFFSETTO:+0100
TZNAME:CET
DTSTART:20161030T010000
END:STANDARD
BEGIN:DAYLIGHT
TZOFFSETFROM:+0100
TZOFFSETTO:+0200
TZNAME:CEST
DTSTART:20170326T010000
END:DAYLIGHT
BEGIN:STANDARD
TZOFFSETFROM:+0200
TZOFFSETTO:+0100
TZNAME:CET
DTSTART:20171029T010000
END:STANDARD
BEGIN:DAYLIGHT
TZOFFSETFROM:+0100
TZOFFSETTO:+0200
TZNAME:CEST
DTSTART:20180325T010000
END:DAYLIGHT
BEGIN:STANDARD
TZOFFSETFROM:+0200
TZOFFSETTO:+0100
TZNAME:CET
DTSTART:20181028T010000
END:STANDARD
END:VTIMEZONE
BEGIN:VEVENT
DTSTART;VALUE=DATE:20170906
DTEND;VALUE=DATE:20170926
DTSTAMP:20260420T083153
CREATED:20170906T190420Z
LAST-MODIFIED:20170906T190420Z
UID:19517-1504656000-1506383999@www.gymnasium-ohlstedt.de
SUMMARY:Indonesien-Austausch in HH
DESCRIPTION:
URL:https://www.gymnasium-ohlstedt.de/veranstaltung/indonesien-austausch-in-hh/
END:VEVENT
BEGIN:VEVENT
DTSTART;TZID=Europe/Berlin:20170906T193000
DTEND;TZID=Europe/Berlin:20170906T193000
DTSTAMP:20260420T083153
CREATED:20170906T190420Z
LAST-MODIFIED:20170906T190420Z
UID:19518-1504726200-1504726200@www.gymnasium-ohlstedt.de
SUMMARY:Zentraler Elternabend S3
DESCRIPTION:
URL:https://www.gymnasium-ohlstedt.de/veranstaltung/zentraler-elternabend-s3-2/
END:VEVENT
BEGIN:VEVENT
DTSTART;TZID=Europe/Berlin:20170907T193000
DTEND;TZID=Europe/Berlin:20170907T213000
DTSTAMP:20260420T083153
CREATED:20170901T121944Z
LAST-MODIFIED:20170901T121944Z
UID:19485-1504812600-1504819800@www.gymnasium-ohlstedt.de
SUMMARY:Zentraler Elternabend der 10. Klassen
DESCRIPTION:Beginn: 19.30 Uhr\nOrt: Pausenhalle
URL:https://www.gymnasium-ohlstedt.de/veranstaltung/zentraler-elternabend-der-10-klassen/
LOCATION:Pausenhalle
CATEGORIES:Elternabend,Mittelstufe
ATTACH;FMTTYPE=image/jpeg:https://www.gymnasium-ohlstedt.de/wp-content/uploads/2015/09/Mittelstufe-Gym-Ohlstedt1.jpg
ORGANIZER;CN="Schulleitung":MAILTO:gymnasium-ohlstedt@bsb.hamburg.de
END:VEVENT
BEGIN:VEVENT
DTSTART;TZID=Europe/Berlin:20170907T193000
DTEND;TZID=Europe/Berlin:20170907T213000
DTSTAMP:20260420T083153
CREATED:20170906T190421Z
LAST-MODIFIED:20170906T190421Z
UID:19519-1504812600-1504819800@www.gymnasium-ohlstedt.de
SUMMARY:Zentraler Elternabend 10
DESCRIPTION:
URL:https://www.gymnasium-ohlstedt.de/veranstaltung/zentraler-elternabend-10/
END:VEVENT
BEGIN:VEVENT
DTSTART;TZID=Europe/Berlin:20170909T100000
DTEND;TZID=Europe/Berlin:20170909T100000
DTSTAMP:20260420T083153
CREATED:20170907T143833Z
LAST-MODIFIED:20170907T143833Z
UID:19672-1504951200-1504951200@www.gymnasium-ohlstedt.de
SUMMARY:Instrumentenkarussell-Blasinstrumente
DESCRIPTION:
URL:https://www.gymnasium-ohlstedt.de/veranstaltung/instrumentenkarussell-blasinstrumente/
END:VEVENT
BEGIN:VEVENT
DTSTART;TZID=Europe/Berlin:20170911T190000
DTEND;TZID=Europe/Berlin:20170911T190000
DTSTAMP:20260420T083153
CREATED:20170906T190421Z
LAST-MODIFIED:20170906T190421Z
UID:19520-1505156400-1505156400@www.gymnasium-ohlstedt.de
SUMMARY:Zentraler Elternabend 5
DESCRIPTION:
URL:https://www.gymnasium-ohlstedt.de/veranstaltung/zentraler-elternabend-5/
END:VEVENT
BEGIN:VEVENT
DTSTART;TZID=Europe/Berlin:20170912T193000
DTEND;TZID=Europe/Berlin:20170912T193000
DTSTAMP:20260420T083153
CREATED:20170906T190421Z
LAST-MODIFIED:20170906T190421Z
UID:19521-1505244600-1505244600@www.gymnasium-ohlstedt.de
SUMMARY:Zentraler Elternabend 8
DESCRIPTION:
URL:https://www.gymnasium-ohlstedt.de/veranstaltung/zentraler-elternabend-8/
END:VEVENT
BEGIN:VEVENT
DTSTART;TZID=Europe/Berlin:20170912T193000
DTEND;TZID=Europe/Berlin:20170912T213000
DTSTAMP:20260420T083153
CREATED:20170901T120959Z
LAST-MODIFIED:20170901T121440Z
UID:19481-1505244600-1505251800@www.gymnasium-ohlstedt.de
SUMMARY:Zentraler Elternabend der 8. Klassen
DESCRIPTION:Beginn: 19.30 Uhr\nOrt: Pausenhalle
URL:https://www.gymnasium-ohlstedt.de/veranstaltung/zentraler-elternabend-der-8-klassen/
LOCATION:Pausenhalle
CATEGORIES:Elternabend,Mittelstufe
ATTACH;FMTTYPE=image/jpeg:https://www.gymnasium-ohlstedt.de/wp-content/uploads/2015/09/Mittelstufe-Gym-Ohlstedt1.jpg
ORGANIZER;CN="Schulleitung":MAILTO:gymnasium-ohlstedt@bsb.hamburg.de
END:VEVENT
BEGIN:VEVENT
DTSTART;TZID=Europe/Berlin:20170913T193000
DTEND;TZID=Europe/Berlin:20170913T193000
DTSTAMP:20260420T083153
CREATED:20170906T190426Z
LAST-MODIFIED:20170906T190426Z
UID:19522-1505331000-1505331000@www.gymnasium-ohlstedt.de
SUMMARY:Zentraler Elternabend 9
DESCRIPTION:
URL:https://www.gymnasium-ohlstedt.de/veranstaltung/zentraler-elternabend-9/
END:VEVENT
BEGIN:VEVENT
DTSTART;TZID=Europe/Berlin:20170913T193000
DTEND;TZID=Europe/Berlin:20170913T213000
DTSTAMP:20260420T083153
CREATED:20170901T121548Z
LAST-MODIFIED:20170901T121548Z
UID:19483-1505331000-1505338200@www.gymnasium-ohlstedt.de
SUMMARY:Zentraler Elternabend der 9. Klassen
DESCRIPTION:Beginn: 19.30 Uhr\nOrt: Pausenhalle
URL:https://www.gymnasium-ohlstedt.de/veranstaltung/zentraler-elternabend-der-9-klassen/
LOCATION:Pausenhalle
CATEGORIES:Elternabend,Mittelstufe
ATTACH;FMTTYPE=image/jpeg:https://www.gymnasium-ohlstedt.de/wp-content/uploads/2015/09/Mittelstufe-Gym-Ohlstedt1.jpg
ORGANIZER;CN="Schulleitung":MAILTO:gymnasium-ohlstedt@bsb.hamburg.de
END:VEVENT
BEGIN:VEVENT
DTSTART;TZID=Europe/Berlin:20170914T080000
DTEND;TZID=Europe/Berlin:20170914T113000
DTSTAMP:20260420T083153
CREATED:20170907T144051Z
LAST-MODIFIED:20170907T144051Z
UID:19674-1505376000-1505388600@www.gymnasium-ohlstedt.de
SUMMARY:Kermit 5/7
DESCRIPTION:
URL:https://www.gymnasium-ohlstedt.de/veranstaltung/kermit-57/
END:VEVENT
BEGIN:VEVENT
DTSTART;TZID=Europe/Berlin:20170914T121000
DTEND;TZID=Europe/Berlin:20170914T125500
DTSTAMP:20260420T083153
CREATED:20170906T190426Z
LAST-MODIFIED:20170906T190426Z
UID:19523-1505391000-1505393700@www.gymnasium-ohlstedt.de
SUMMARY:Klassenstunde 5. Std
DESCRIPTION:
URL:https://www.gymnasium-ohlstedt.de/veranstaltung/klassenstunde-5-std/
END:VEVENT
BEGIN:VEVENT
DTSTART;TZID=Europe/Berlin:20170914T183000
DTEND;TZID=Europe/Berlin:20170914T183000
DTSTAMP:20260420T083153
CREATED:20170907T143655Z
LAST-MODIFIED:20170907T144013Z
UID:19670-1505413800-1505413800@www.gymnasium-ohlstedt.de
SUMMARY:Infoabend Musik-AG am GO
DESCRIPTION:
URL:https://www.gymnasium-ohlstedt.de/veranstaltung/infoabend-musik-ag-am-go/
END:VEVENT
BEGIN:VEVENT
DTSTART;TZID=Europe/Berlin:20170914T193000
DTEND;TZID=Europe/Berlin:20170914T193000
DTSTAMP:20260420T083153
CREATED:20170906T190426Z
LAST-MODIFIED:20170906T190426Z
UID:19524-1505417400-1505417400@www.gymnasium-ohlstedt.de
SUMMARY:Elternabend 7 b/c
DESCRIPTION:
URL:https://www.gymnasium-ohlstedt.de/veranstaltung/elternabend-7-bc/
END:VEVENT
BEGIN:VEVENT
DTSTART;TZID=Europe/Berlin:20170914T200000
DTEND;TZID=Europe/Berlin:20170914T200000
DTSTAMP:20260420T083153
CREATED:20170906T190426Z
LAST-MODIFIED:20170906T190426Z
UID:19525-1505419200-1505419200@www.gymnasium-ohlstedt.de
SUMMARY:Elternabend 7a
DESCRIPTION:
URL:https://www.gymnasium-ohlstedt.de/veranstaltung/elternabend-7a/
END:VEVENT
BEGIN:VEVENT
DTSTART;TZID=Europe/Berlin:20170915T084500
DTEND;TZID=Europe/Berlin:20170915T113000
DTSTAMP:20260420T083153
CREATED:20170906T190426Z
LAST-MODIFIED:20170907T143405Z
UID:19526-1505465100-1505475000@www.gymnasium-ohlstedt.de
SUMMARY:Schulsprecherwahl
DESCRIPTION:Schulsprecherwahl \n2. Stunde: Jahrgänge 5-8 \n3. Stunde: Jahrgänge 9-S3
URL:https://www.gymnasium-ohlstedt.de/veranstaltung/schulsprecherwahl/
END:VEVENT
BEGIN:VEVENT
DTSTART;TZID=Europe/Berlin:20170916T150000
DTEND;TZID=Europe/Berlin:20170916T200000
DTSTAMP:20260420T083153
CREATED:20170906T190427Z
LAST-MODIFIED:20170906T190427Z
UID:19527-1505574000-1505592000@www.gymnasium-ohlstedt.de
SUMMARY:Sommerfest
DESCRIPTION:
URL:https://www.gymnasium-ohlstedt.de/veranstaltung/sommerfest/
END:VEVENT
BEGIN:VEVENT
DTSTART;VALUE=DATE:20170917
DTEND;VALUE=DATE:20170922
DTSTAMP:20260420T083153
CREATED:20170906T190428Z
LAST-MODIFIED:20170906T190428Z
UID:19528-1505606400-1506038399@www.gymnasium-ohlstedt.de
SUMMARY:Sportprofil-Reise
DESCRIPTION:
URL:https://www.gymnasium-ohlstedt.de/veranstaltung/sportprofil-reise/
END:VEVENT
BEGIN:VEVENT
DTSTART;VALUE=DATE:20170918
DTEND;VALUE=DATE:20170923
DTSTAMP:20260420T083153
CREATED:20170906T190428Z
LAST-MODIFIED:20170907T144906Z
UID:19529-1505692800-1506124799@www.gymnasium-ohlstedt.de
SUMMARY:S3-Profilwoche
DESCRIPTION:
URL:https://www.gymnasium-ohlstedt.de/veranstaltung/s3-projektwoche/
END:VEVENT
BEGIN:VEVENT
DTSTART;TZID=Europe/Berlin:20170918T190000
DTEND;TZID=Europe/Berlin:20170918T190000
DTSTAMP:20260420T083153
CREATED:20170906T190428Z
LAST-MODIFIED:20170906T190428Z
UID:19530-1505761200-1505761200@www.gymnasium-ohlstedt.de
SUMMARY:Infoabend Dänemarkaustausch Jg. 8
DESCRIPTION:
URL:https://www.gymnasium-ohlstedt.de/veranstaltung/infoabend-daenemarkaustausch-jg-8/
END:VEVENT
BEGIN:VEVENT
DTSTART;VALUE=DATE:20170919
DTEND;VALUE=DATE:20170920
DTSTAMP:20260420T083153
CREATED:20170908T123555Z
LAST-MODIFIED:20170908T123555Z
UID:19744-1505779200-1505865599@www.gymnasium-ohlstedt.de
SUMMARY:Regionalmeisterschaften Staffel
DESCRIPTION:
URL:https://www.gymnasium-ohlstedt.de/veranstaltung/regionalmeisterschaften-staffel/
END:VEVENT
BEGIN:VEVENT
DTSTART;TZID=Europe/Berlin:20170921T140000
DTEND;TZID=Europe/Berlin:20170921T144500
DTSTAMP:20260420T083153
CREATED:20170912T175048Z
LAST-MODIFIED:20170912T175048Z
UID:19765-1506002400-1506005100@www.gymnasium-ohlstedt.de
SUMMARY:Instrumentenkarussell Blasinstrumente
DESCRIPTION:
URL:https://www.gymnasium-ohlstedt.de/veranstaltung/instrumentenkarussell-blasinstrumente-2/
END:VEVENT
BEGIN:VEVENT
DTSTART;VALUE=DATE:20170922
DTEND;VALUE=DATE:20170930
DTSTAMP:20260420T083153
CREATED:20170906T190429Z
LAST-MODIFIED:20170906T190429Z
UID:19532-1506038400-1506729599@www.gymnasium-ohlstedt.de
SUMMARY:Dänemarkaustausch in HH
DESCRIPTION:
URL:https://www.gymnasium-ohlstedt.de/veranstaltung/daenemarkaustausch-in-hh/
END:VEVENT
BEGIN:VEVENT
DTSTART;TZID=Europe/Berlin:20170922T180000
DTEND;TZID=Europe/Berlin:20170922T193000
DTSTAMP:20260420T083153
CREATED:20170922T103809Z
LAST-MODIFIED:20170922T105011Z
UID:19892-1506103200-1506108600@www.gymnasium-ohlstedt.de
SUMMARY:Informationsabend - Auslandsjahr in GB
DESCRIPTION:Liebe Eltern der 8.  und 9. Klassen\, \nwie auf dem Informationsabend der 8. Klassen bereits angekündigt\, findet auf Schülerinitiative heute um 18.00 im Geo-Raum (Fachtrakt) eine Informationsveranstaltung zum Auslandsschulbesuch in Großbritannien statt. \n  \nhttp://www.embraceengland.co.uk/ \nhttp://www.embraceengland.co.uk/experience/2017/huntington-school/ \n 
URL:https://www.gymnasium-ohlstedt.de/veranstaltung/informationsabend-auslandsjahr-in-gb-2/
LOCATION:Computerraum\, Stahmerstraße 55\, Hamburg
CATEGORIES:Informationsveranstaltung
ATTACH;FMTTYPE=image/png:https://www.gymnasium-ohlstedt.de/wp-content/uploads/2015/04/Bildschirmfoto-2017-09-22-um-12.38.38.png
END:VEVENT
BEGIN:VEVENT
DTSTART;VALUE=DATE:20170925
DTEND;VALUE=DATE:20170930
DTSTAMP:20260420T083153
CREATED:20170906T190430Z
LAST-MODIFIED:20170907T144956Z
UID:19533-1506297600-1506729599@www.gymnasium-ohlstedt.de
SUMMARY:S1-Profilwoche
DESCRIPTION:
URL:https://www.gymnasium-ohlstedt.de/veranstaltung/s1-projektwoche/
END:VEVENT
BEGIN:VEVENT
DTSTART;TZID=Europe/Berlin:20170926T193000
DTEND;TZID=Europe/Berlin:20170926T193000
DTSTAMP:20260420T083153
CREATED:20170906T190430Z
LAST-MODIFIED:20170907T144223Z
UID:19535-1506454200-1506454200@www.gymnasium-ohlstedt.de
SUMMARY:Zentraler Elternabend S1
DESCRIPTION:
URL:https://www.gymnasium-ohlstedt.de/veranstaltung/zentraler-elternabend-s1/
END:VEVENT
BEGIN:VEVENT
DTSTART;TZID=Europe/Berlin:20170927T095500
DTEND;TZID=Europe/Berlin:20170927T113000
DTSTAMP:20260420T083153
CREATED:20170914T164228Z
LAST-MODIFIED:20170914T164228Z
UID:19781-1506506100-1506511800@www.gymnasium-ohlstedt.de
SUMMARY:rapido Laufwettbewerb Klasse 5
DESCRIPTION:
URL:https://www.gymnasium-ohlstedt.de/veranstaltung/rapido-laufwettbewerb-klasse-5/
END:VEVENT
BEGIN:VEVENT
DTSTART;VALUE=DATE:20170928
DTEND;VALUE=DATE:20170929
DTSTAMP:20260420T083153
CREATED:20170906T190431Z
LAST-MODIFIED:20170906T190431Z
UID:19538-1506556800-1506643199@www.gymnasium-ohlstedt.de
SUMMARY:Klassenausflüge 8-10
DESCRIPTION:
URL:https://www.gymnasium-ohlstedt.de/veranstaltung/klassenausfluege-8-10/
END:VEVENT
BEGIN:VEVENT
DTSTART;TZID=Europe/Berlin:20170928T093500
DTEND;TZID=Europe/Berlin:20170928T123500
DTSTAMP:20260420T083153
CREATED:20170912T175210Z
LAST-MODIFIED:20170912T175210Z
UID:19767-1506591300-1506602100@www.gymnasium-ohlstedt.de
SUMMARY:Instrumentenkarussell Bandinstrumente Jgg. 5-7
DESCRIPTION:
URL:https://www.gymnasium-ohlstedt.de/veranstaltung/instrumentenkarussell-bandinstrumente-jgg-5-7/
END:VEVENT
BEGIN:VEVENT
DTSTART;VALUE=DATE:20170929
DTEND;VALUE=DATE:20170930
DTSTAMP:20260420T083153
CREATED:20170908T123629Z
LAST-MODIFIED:20170908T123629Z
UID:19746-1506643200-1506729599@www.gymnasium-ohlstedt.de
SUMMARY:Staffeltag Hamburg
DESCRIPTION:
URL:https://www.gymnasium-ohlstedt.de/veranstaltung/staffeltag-hamburg/
END:VEVENT
END:VCALENDAR